BEGIN:VCALENDAR
VERSION:2.0
PRODID:-//City Heritage Society - ECPv6.15.20//NONSGML v1.0//EN
CALSCALE:GREGORIAN
METHOD:PUBLISH
X-WR-CALNAME:City Heritage Society
X-ORIGINAL-URL:https://cityheritage.org.uk
X-WR-CALDESC:Events for City Heritage Society
REFRESH-INTERVAL;VALUE=DURATION:PT1H
X-Robots-Tag:noindex
X-PUBLISHED-TTL:PT1H
BEGIN:VTIMEZONE
TZID:UTC
BEGIN:STANDARD
TZOFFSETFROM:+0000
TZOFFSETTO:+0000
TZNAME:UTC
DTSTART:20250101T000000
END:STANDARD
END:VTIMEZONE
BEGIN:VEVENT
DTSTART;TZID=UTC:20260521T183000
DTEND;TZID=UTC:20260521T233000
DTSTAMP:20260423T121855
CREATED:20260208T190858Z
LAST-MODIFIED:20260208T190858Z
UID:336-1779388200-1779406200@cityheritage.org.uk
SUMMARY:AGM and Annual Dinner 2026
DESCRIPTION:Please join us for the CHS Annual Dinner and AGM on 21 May\, 2026. \n\n\n\nTaking place in the magnificent Alderman’s Dining Room in the Guildhall\, we’ll enjoy a sparkling wine reception before a three course dinner with wine and port.  The dinner is open to all members and as many guests as they wish to invite. \n\n\n\nYou are also welcome to attend the AGM\, immediately before the dinner\, if you are a member of the CHS.   \n\n\n\nAGM: 5.30pm \n\n\n\nDinner: 6.30pm for 7.00pm start (you do not need to attend the AGM in order to come to the dinner).
URL:https://cityheritage.org.uk/event/agm-and-annual-dinner-2026/
LOCATION:Guildhall\, Guildhall Yard\, London EC2P 2EJ
END:VEVENT
END:VCALENDAR